BEGIN:VCALENDAR
VERSION:2.0
PRODID:-//Bethel SOZO South Africa - ECPv6.15.20//NONSGML v1.0//EN
CALSCALE:GREGORIAN
METHOD:PUBLISH
X-WR-CALNAME:Bethel SOZO South Africa
X-ORIGINAL-URL:https://sozosouthafrica.co.za
X-WR-CALDESC:Events for Bethel SOZO South Africa
REFRESH-INTERVAL;VALUE=DURATION:PT1H
X-Robots-Tag:noindex
X-PUBLISHED-TTL:PT1H
BEGIN:VTIMEZONE
TZID:Africa/Johannesburg
BEGIN:STANDARD
TZOFFSETFROM:+0200
TZOFFSETTO:+0200
TZNAME:SAST
DTSTART:20250101T000000
END:STANDARD
END:VTIMEZONE
BEGIN:VEVENT
DTSTART;TZID=Africa/Johannesburg:20260415T180000
DTEND;TZID=Africa/Johannesburg:20260416T160000
DTSTAMP:20260420T051601
CREATED:20260414T213357Z
LAST-MODIFIED:20260416T201204Z
UID:1746-1776276000-1776355200@sozosouthafrica.co.za
SUMMARY:ONLINE  SOZO BASIC TRAINING
DESCRIPTION: WHAT WILL I LEARN? \n\nIn this online training workshop you will be introduced to the foundational tools of the Sozo ministry\, and taught how to use them.\nBasic Sozo training is a pre-requisite for becoming a Sozo team member.\nHowever\, practical experience is a requirement before you are released into the Sozo ministry team by the\nsub-facilitator in your area. \nThe latest Basic Sozo training manual is compulsory and is included in the training fee. \nPlease note that the Basic Manuals have been updated in 2022. If you do not have the new manual you will need to pay the full fee. Only if you have the updated manual can you opt to pay the the course fee only. \n  \n\nDATE:\nFriday 15 May 2026 @ 18:00 – 21:00\nSaturday 16 May 2026 @ 9:00 – 16:00 \nWHERE: \n\nOnline (Link to be shared) \n\nWORKSHOP COST: \n\n\n\nR595pp\, Including a Manual\nR300pp\,  Without a Manual (Should this be a refresher course and have the updated 2022 manual)  Including a Manual\n\nEntries close on  11 May 2026 so please book in time to avoid disappointment. \n\n\nPLEASE MAKE SURE YOU COMPLETE THIS GOOGLE FORM BELOW. \n\n\nClick on the link below: \n\nONLINE SOZO BASIC TRAINING
URL:https://sozosouthafrica.co.za/event/online-sozo-basic-training/
LOCATION:ONLINE
CATEGORIES:Event,Upcoming Events
ORGANIZER;CN="Rene Enslin":MAILTO:sozoingauteng@gmail.com
END:VEVENT
BEGIN:VEVENT
DTSTART;TZID=Africa/Johannesburg:20260619T180000
DTEND;TZID=Africa/Johannesburg:20260620T160000
DTSTAMP:20260420T051601
CREATED:20260415T074911Z
LAST-MODIFIED:20260416T201546Z
UID:1759-1781892000-1781971200@sozosouthafrica.co.za
SUMMARY:ONLINE SOZO ADVANCE TRAINING
DESCRIPTION:WHAT WILL I LEARN? \n\nReview basic Sozo tools and learn advanced strategies: Bodywork\, Trauma\, Familiar Spirits & Prophetic Deliverance\n\n\nThe latest Sozo Advance 1 training manual is compulsory and is included in the registration fee. \nPlease note that the Advance Manuals have been updated in 2022. If you do not have the new manual you will need to pay the full fee. Only if you have the updated manual can you opt to pay the the course fee only.\n \n  \n  \n  \nDATE:\nFriday 19 June 2026 @ 18:00 – 21:00\nSaturday 20 June 2026 @ 9:00 – 16:00 \n  \nWHERE:\nOnline (Link to be shared) \n\n\n\n\n\nTRAINING COST: \n\n\n\nR580pp\, Including a Manual\n\nEntries close on  15 June 2026 so please book in time to avoid disappointment. \n\n\n\n\nPLEASE MAKE SURE YOU COMPLETE THIS GOOGLE FORM BELOW: \nONLINE SOZO ADVANCE TRAINING
URL:https://sozosouthafrica.co.za/event/online-sozo-advance-training/
LOCATION:ONLINE
CATEGORIES:Event,Upcoming Events
ORGANIZER;CN="Rene Enslin":MAILTO:sozoingauteng@gmail.com
END:VEVENT
END:VCALENDAR