BEGIN:VCALENDAR
VERSION:2.0
PRODID:-//Bethel SOZO South Africa - ECPv6.15.20//NONSGML v1.0//EN
CALSCALE:GREGORIAN
METHOD:PUBLISH
X-WR-CALNAME:Bethel SOZO South Africa
X-ORIGINAL-URL:https://sozosouthafrica.co.za
X-WR-CALDESC:Events for Bethel SOZO South Africa
REFRESH-INTERVAL;VALUE=DURATION:PT1H
X-Robots-Tag:noindex
X-PUBLISHED-TTL:PT1H
BEGIN:VTIMEZONE
TZID:Africa/Johannesburg
BEGIN:STANDARD
TZOFFSETFROM:+0200
TZOFFSETTO:+0200
TZNAME:SAST
DTSTART:20240101T000000
END:STANDARD
END:VTIMEZONE
BEGIN:VEVENT
DTSTART;TZID=Africa/Johannesburg:20250315T080000
DTEND;TZID=Africa/Johannesburg:20250315T173000
DTSTAMP:20260420T233740
CREATED:20250211T101920Z
LAST-MODIFIED:20250212T132025Z
UID:1292-1742025600-1742059800@sozosouthafrica.co.za
SUMMARY:LIVE SOZO BASIC TRAINING - PRETORIA
DESCRIPTION:WHAT WILL I LEARN?\n\n\nAt this training session you will be introduced to the foundational tools of the Bethel Sozo ministry\, and taught how to use them. Basic Sozo training is a prerequisite for any Sozo team member. However\, practical experience is a requirement before you are released into the Sozo ministry team by the sub- facilitator in your area. \nBasic Sozo training manual is compulsory and is included in the registration fee. \nPlease note that the Basic Manuals have been updated in 2022. If you do not have the new manual you will need to pay the full fee. Only if you have the updated manual can you opt to pay the the course fee only \nPlease feel free to contact Rene Enslin for any uncertainty. \nIMPORTANT INFORMATION: \n\nDoor will open @ 8:00am for registration.\nCoffee\, tea & muffins will be available from 8:00am.\nCappuccinos will also be for sale at the venue.\nConference will start at 9:00am.\nPlease provide for own lunch.  Listed below is a few local restaurants in the area:\n\nWaverley Plaza\, McDonald’s Waverley\, KFC Waverley\, Romans Pizza\, Steers – all under 2km from the venue. \nREGISTRATION COST:\n\nR165pp\, Without a Manual (Should this be a refresher course and have the updated 2022 manual)\nR425pp\, Including a Manual\n\nTo register\, please fill in the registration form on the link below. \nEntries close on 3 March 2025 so please book in time to avoid disappointment. \n\nPLEASE MAKE SURE YOU COMPLETE YOUR REGISTRATION ON THIS FORM BELOW.\n\nClick on the Here: Sozo Basic Registration\n\n\nOn the day of the event please provide us with any proof of payment at registration.
URL:https://sozosouthafrica.co.za/event/live-sozo-basic-training-pretoria/
LOCATION:Oasis Revival Ministries\, 1207 Karriboom Street\, Moregloed\, Gauteng\, 0186\, South Africa
ORGANIZER;CN="Rene Enslin":MAILTO:sozoingauteng@gmail.com
END:VEVENT
END:VCALENDAR