BEGIN:VCALENDAR
VERSION:2.0
PRODID:-//Bethel SOZO South Africa - ECPv6.15.20//NONSGML v1.0//EN
CALSCALE:GREGORIAN
METHOD:PUBLISH
X-ORIGINAL-URL:https://sozosouthafrica.co.za
X-WR-CALDESC:Events for Bethel SOZO South Africa
REFRESH-INTERVAL;VALUE=DURATION:PT1H
X-Robots-Tag:noindex
X-PUBLISHED-TTL:PT1H
BEGIN:VTIMEZONE
TZID:Africa/Johannesburg
BEGIN:STANDARD
TZOFFSETFROM:+0200
TZOFFSETTO:+0200
TZNAME:SAST
DTSTART:20230101T000000
END:STANDARD
END:VTIMEZONE
BEGIN:VEVENT
DTSTART;TZID=Africa/Johannesburg:20240606T090000
DTEND;TZID=Africa/Johannesburg:20240608T170000
DTSTAMP:20260421T102102
CREATED:20240212T100413Z
LAST-MODIFIED:20240221T104439Z
UID:731-1717664400-1717866000@sozosouthafrica.co.za
SUMMARY:SOZO Summit and Training Events
DESCRIPTION:Dear Sozo teams\, \nIt is my privilege to invite you to register for the following three events; the Advanced- and Shabar training conferences\, followed by the Sozo Summit\, where Dawna DeSilva and Teresa Liebscher\, our Bethel Sozo founders will be our teachers and speakers. The registration form is available on the link below. \nThe main topic of the Sozo Summit is “Waring with Wisdom”\, and Dawna DeSilva will be sharing on the topic\, based on her book\, “Waring with Wisdom”.  This book is not available for ordering on the form. \nThese events promise to be an exciting time where all the Sozo teams of Africa gather to meet\, share\, learn and most of all\, sit at the feet of the two founder leaders of Bethel Sozo from CA\, in US. \nDates and program:\nDay 1:  Advanced 1 Sozo training: Thursday\, 6th June\, 09.00-17.00 \nDay 2: Advanced 2 (Shabar) training: Friday\, 7th June\, 09.00-17.00 \nSozo Summit\, Formal opening: Friday evening\, 7th June 18.00 – 21.00 \n(This event includes a complimentary small meal.) \nDay 3:  Sozo Summit\, Saturday\, 8th June 09.00-17.00 \nVenue:\nDie Bron Church\, The Willowbridge Shopping Centre\, 39 Carl Cronje Drive\, Bellville\, Cape Town\, 7530.\nEvent cost:\nThere are two prices on the registration page: \n\nR1500 for all three events (as described above)\nR600 for the Summit only (starting with a small complimentary meal served at the official opening on Friday evening and going through Saturday)\n\nManuals:\nA manual is compulsory. There are 3 manuals to choose from: \n\nThe Advanced 1 manual (contains only the Advance course) Cost R180\nThe Advanced 2 manual (contains only the Shabar course) Cost R200\nThe newly revised Advanced 1 and 2  Sozo manual that combines the two courses.  Cost R240.  (Please note- The previous Advanced Sozo manual is now outdated.)\n\nThe closing date is Tuesday 28th May. Make sure to book early! \nTO REGISTER CLICK HERE: https://forms.gle/JK6eEU1VTWgrWmCo7 \nI look forward to seeing you all in Cape Town\, \nMuch love\, \nCarina Boshoff
URL:https://sozosouthafrica.co.za/event/sozo-summit-and-training-events/
LOCATION:Die Bron Church\, Die BRON Church\, Willowbridge Shopping Centre\, 39 Carl Cronje Dr\, Bellville\, Bellville\, Cape Town\, 7530\, South Africa
END:VEVENT
END:VCALENDAR